BEGIN:VCALENDAR
PRODID:-//eluceo/ical//2.0/EN
VERSION:2.0
CALSCALE:GREGORIAN
BEGIN:VEVENT
UID:event-575
DTSTAMP:20260421T135658Z
SUMMARY:FSR x Faector | Capgemini Inhouse Day
DESCRIPTION:The Capgemini Inhouse Day 2026  During this inhouse day\, you 
 will gain insight into how AI is applied within consultancy. Through inter
 active sessions\, you will learn how innovative technologies are integrate
 d into real-world business solutions and how consultants leverage AI to cr
 eate impact for clients. This event is specifically designed for Dutch-spe
 aking third-year bachelor (Bachelor 3+) and master’s students who are in
 terested in consultancy and technology. You will have the opportunity to c
 onnect with professionals\, ask questions in an informal setting\, and get
  a better understanding of what a career at Capgemini could look like. Ple
 ase note that completing the application form is required to participate. 
 You can apply via the following link: https://forms.gle/ojiEbcHff2EmjMg57 
 Event Overview Event date: May 8\, 2026 Time: 14:00 – 18:00 Location: Ca
 pgemini\, Utrecht\, The Netherlands Application deadline: May 3rd\, 23:59
DTSTART:20260508T120000Z
DTEND:20260508T160000Z
LOCATION:Utrecht
END:VEVENT
BEGIN:VTIMEZONE
TZID:UTC
BEGIN:STANDARD
DTSTART:20260508T120000
TZNAME:UTC
TZOFFSETTO:+0000
TZOFFSETFROM:+0000
END:STANDARD
END:VTIMEZONE
END:VCALENDAR
